BEGIN:VCALENDAR
VERSION:2.0
PRODID:-//Le Domaine Vert - ECPv6.15.20//NONSGML v1.0//EN
CALSCALE:GREGORIAN
METHOD:PUBLISH
X-WR-CALNAME:Le Domaine Vert
X-ORIGINAL-URL:https://ledomainevert.com
X-WR-CALDESC:Evenementen voor Le Domaine Vert
REFRESH-INTERVAL;VALUE=DURATION:PT1H
X-Robots-Tag:noindex
X-PUBLISHED-TTL:PT1H
BEGIN:VTIMEZONE
TZID:Europe/Amsterdam
BEGIN:DAYLIGHT
TZOFFSETFROM:+0100
TZOFFSETTO:+0200
TZNAME:CEST
DTSTART:20250330T010000
END:DAYLIGHT
BEGIN:STANDARD
TZOFFSETFROM:+0200
TZOFFSETTO:+0100
TZNAME:CET
DTSTART:20251026T010000
END:STANDARD
BEGIN:DAYLIGHT
TZOFFSETFROM:+0100
TZOFFSETTO:+0200
TZNAME:CEST
DTSTART:20260329T010000
END:DAYLIGHT
BEGIN:STANDARD
TZOFFSETFROM:+0200
TZOFFSETTO:+0100
TZNAME:CET
DTSTART:20261025T010000
END:STANDARD
BEGIN:DAYLIGHT
TZOFFSETFROM:+0100
TZOFFSETTO:+0200
TZNAME:CEST
DTSTART:20270328T010000
END:DAYLIGHT
BEGIN:STANDARD
TZOFFSETFROM:+0200
TZOFFSETTO:+0100
TZNAME:CET
DTSTART:20271031T010000
END:STANDARD
END:VTIMEZONE
BEGIN:VEVENT
DTSTART;VALUE=DATE:20260701
DTEND;VALUE=DATE:20260709
DTSTAMP:20260421T225652
CREATED:20250902T102815Z
LAST-MODIFIED:20260330T184433Z
UID:4486-1782864000-1783555199@ledomainevert.com
SUMMARY:cookingclasses (and more) - given by "one of a kind"-chef: Assaf Ben Moshe - 1 july-8 july 2026
DESCRIPTION:During this retreat we will laugh\, drink\, cut\, mix\, learn\, move\, tour the markets and yes\, cook \n  \n\n\nAssaf Ben Moshe Chef & Pastry Expert | Author of On Taste and Spirit \n“Assaf is one of a kind. He is so funny\, friendly\, direct and open. I did not only learn how to cook. This week contributed to my life!” \n \nWith over 20 years of experience\, Assaf Ben Moshe (Sufi) is a chef and pastry expert\, as well as the author of the acclaimed cookbook “On Taste and Spirit”. His work explores the deep and fascinating relationships between humans and food\, uncovering its profound impacts on our physical and emotional well-being. \n \nDriven by a deep passion for food and people\, Sufi teaches and guides culinary experiences across all around the world. His unique workshops blend personal empowerment\, deep body awareness\, and the art of cooking\, offering a holistic and inspiring experience. Participants not only learn to prepare exquisite dishes but also discover the deeper meaning of mindful nutrition—learning to live in balance and reconnect with themselves through food. \n \n\n\n“During the retreat I will teach you what I have learned from 20 years of working as a professional chef\, little secrets and tricks that will help you become a better cook in your own life. This is not a retreat for chefs. This is for everyone who wishes to better themselves as a home cook\, expand their repertoire of dishes and learn new techniques to make later at home. \n\n\n\n\nI will teach you an array of recipes\, from vegetarian to meat\, from salty to sweet and from simple to sophisticated. In addition\, we will a market tour to a local food market in which we will explore\, shop and take things with us to cook in our kitchen\, sounds like fun right?” \n  \n\n\n\n\nSo… How much is it?\nThe cost of the retreat including everything is just 1.200Euros per person. This includes accommodation\, all food during this week\, the market tour and a trip to and from the nearest train station called UZERCHE. \n \nHow you get to the train station itself is on you. We recommend to travel by train to Uzerche. If you fly\, Toulouse is the best option. It has a good direct trainconnection to Uzerche. You can also choose the option to be picked up either in Toulouse\, Limoges or Bordeaux by Le Domaine Vert’s shuttleservice (prices on request). \nAccommodation \n\n\n\n\nOn the farm we have a beautiful and modern wood and stone villa\, equipped with 3 double rooms and one large room with 4 beds for singles. \nWe also have a separate wooden cabin\, Yurt\, or the farmersuite with a great view (for additional cost) If you wish to stay on your own space. \nInterested? send an email to: assaf.benmoshe@gmail.com \n\n\n\n\n 
URL:https://ledomainevert.com/evenementen/cookingclasses-and-more-given-by-one-of-a-kind-chef-assaf-ben-moshe-1-july-8-july-2026/
ATTACH;FMTTYPE=image/jpeg:https://ledomainevert.com/wp-content/uploads/2025/09/סופי-ריטריט-1172-1024x683-1.jpg
END:VEVENT
BEGIN:VEVENT
DTSTART;VALUE=DATE:20260720
DTEND;VALUE=DATE:20260727
DTSTAMP:20260421T225652
CREATED:20250710T202850Z
LAST-MODIFIED:20260102T093647Z
UID:4381-1784505600-1785110399@ledomainevert.com
SUMMARY:ouder kind week/retreat - qualitytime met jouw kind(eren) / 20-26 juli 2026
DESCRIPTION:Heb je een gezin of ben je alleenstaande ouder en wil je graag genieten\, ontspannen en daarnaast werken aan de band tussen jou en je kind tijdens een bijzondere week vakantie in Frankrijk? Lees dan gauw verder! \nStel je voor… Uitgerust word je wakker door het vrolijke getjilp van de vogels die blij zijn dat de zon schijnt: het wordt een prachtige dag. \nAan het gelach en gejoel van beneden hoor je dat je kinderen al op zijn en met een uitgerust gevoel stap je uit bed. \nAlle ingrediënten voor een fijne week met je kind zijn aanwezig: de rust\, de tijd\, de activiteiten en de begeleiding om écht met elkaar in contact te komen. Tijdens deze week zal er voor jullie heerlijk gekookt worden\, en koken we sommige maaltijden samen. Iedere dag halen we vers stokbrood. \nTijdens deze week draait het om het samen zijn\, herinneringen maken en avonturen beleven met je kind en/of gezin. \n\n			\n				\n			\n				\n				Zelf pizza’s bakken\n				\n			\n				\n			\n				\n				Moddergevecht!\n				\n		\n\nZin om in een mooie omgeving samen vakantie te vieren\, superleuke dingen te doen én op een prettige manier te leren en ervaren? Dan is deze week voor jullie! \nZelf moet ik denken aan een lied van Herman van Veen: ‘We moeten rennen\, springen\, vliegen\, duiken\, vallen\, opstaan en weer doorgaan…’ en dat iedere dag opnieuw. Herken jij ook dat: \n\nJe de hele dag druk bent met werk\, huishouden\, boodschappen doen\, koken én dan ook nog je kind de aandacht geven die het verdient. Soms heb je gewoon echt even geen puf meer om aandachtig te luisteren en op een rustige manier te reageren;\nHet lastig is om over emoties en gevoelens te praten met je kind;\nJe kind naar school gaat\, naar sport\, spelen bij vriendjes/vriendinnetjes\, muziekles\, je voelt je soms net een taxichauffeur. Maar écht samen dingen doen en bewuste aandacht voor elkaar hebben\, daar is nooit echt tijd voor;\nDe tv\, telefoon en computer zijn een welkome vlucht. Je hebt even tijd en rust voor jezelf. Je kind vindt het best prettig om zichzelf als het ware te ‘verdoven’\, zodat hij/zij mama of papa niet ‘tot last’ is;\nJe gunt je kind meer tijd in de natuur\, meer buiten spelen en samen dingen doen;\nEigenlijk verlang je zelf naar meer luchtigheid\, meer speelsheid in jezelf. Dan kan je ook ‘leuker’ met je kind omgaan.\n\n  \n\n			\n				\n			\n				\n				Slak met bloempje\n				\n			\n				\n			\n				\n				Pad\n				\n		\n\nTijdens deze week zul je op Le Domaine Vert midden in de natuur je vakantie doorbrengen en veel plezier beleven samen met je kind/gezin. Deze week is gericht op kinderen tussen de 4 en 16 jaar\, andere leeftijden zijn in overleg welkom. \nWij\, Walter en Anna Linde\, gaan jullie helpen om écht met elkaar in contact te komen. \nJullie zullen meer begrip voor elkaar krijgen en meer met elkaar in verbinding komen te staan. \nNaast het leren en ervaren\, belooft het een week vol gave activiteiten te worden. \nDenk bijvoorbeeld aan fikkie stoken\, dammen bouwen in de beek\, zelf pizza’s bakken in de houtgestookte pizzaoven en daarnaast is er ook ruimte om tot rust te komen. \nZie jij het wel zitten om ’s nachts naar de duizenden sterren te kijken? Herken jij het geluid al van die lynx die verderop roept? \nWie weet spot je samen met je kind wel de zeldzame Wielewaal die een luxe leventje leidt op het grote terrein van Le Domaine Vert. \nEen week vol nieuwe ontdekkingen en ervaringen wacht op jullie. En omdat wij het belangrijk vinden om jullie de begeleiding en aandacht te bieden die jullie verdienen\, zal de groep overzichtelijk zijn. \nHebben jullie er net zoveel zin in als wij? Twijfel dan niet\, en stuur ons een mailtje (zie ons mailadres onderaan deze pagina)! \nNa deze prachtige week neemt Walter of Anna Linde nog een keer contact met je op\, om eventuele vragen die je hebt te beantwoorden. Mocht je behoefte hebben aan regelmatige begeleiding of aan gewoon eens samen sparren\, dan is er de mogelijkheid om een coachingstraject te boeken. \nWe kijken ernaar uit om er samen met jullie een onvergetelijke week van te maken! \nTot snel ! \nAnna Linde en Walter \nPrijzen: \nDeze week is inclusief 3 maaltijden per dag per persoon (ontbijt\, lunch en diner) en de basisprijs is per volwassene 300 euro\, per kind 200 euro. Hier bovenop komt de prijs voor de overnachting\, zie hieronder de verschillende keuzes: \nOp de camping in je eigen tent\, caravan\, camper etc.. : €250\,00 (onafhankelijk aantal personen) \nKamer in de gite (vakantiehuis) = €500\,00 (2 – 4 personen)\, 2 kamers gereserveerd\, nog 2 kamers beschikbaar \nBoerensuite = gereserveerd \nYurt = gereserveerd \nBlokhut = €350\,00 (2 personen) \nDe Waard tipitent = €350\,00 (2 – 4 personen) \nVoorbeeld berekening: 1 vader komt met 2 kinderen en overnacht in de Yurt: €300\,- (vader) + €200\,- (kind 1) + €200\,- (kind 2) + €400\,- (Yurt) = €1100\,- in totaal voor de hele week inclusief overnachtingen\, maaltijden en alle activiteiten.  \nAnnuleringsvoorwaarden :\n \n– als je uiterlijk 6 weken voor aanvang annuleert ontvang je je aanbetaling volledig terug \n– als je binnen 2 en 6 weken annuleert ontvang je een voucher ter waarde van je aanbetaling voor een volgend event op Le Domaine Vert\n \n– als je later dan 2 weken voor het aanvang annuleert dan behouden we je aanbetaling om de dan al gemaakte kosten te dekken. \nKom je ook? Stuur een mailtje naar walter@ledomainevert.com of annalinde@ledomainevert.com om jullie plek te reserveren! \n\n			\n				\n			\n				\n				Zwemmen in natuurwater\n				\n			\n				\n			\n			\n				\n			\n				\n				Bij het kampvuur\n				\n		\n\n  \n 
URL:https://ledomainevert.com/evenementen/ouder-kind-week-retreat-20-26-7-2026/
LOCATION:Le Domaine Vert\, Les Magnes 3972\, Route des Templiers\, Frankrijk
ATTACH;FMTTYPE=image/jpeg:https://ledomainevert.com/wp-content/uploads/2024/04/FB_IMG_1711965884542.jpg
END:VEVENT
BEGIN:VEVENT
DTSTART;VALUE=DATE:20260804
DTEND;VALUE=DATE:20260810
DTSTAMP:20260421T225652
CREATED:20260330T185550Z
LAST-MODIFIED:20260330T185550Z
UID:4996-1785801600-1786319999@ledomainevert.com
SUMMARY:Stage danse/approche énergétique du mouvement du 4 au 9 août 2026
DESCRIPTION:Un stage en 2 temps proposé et encadré par Gisèle Gréau et Sylvie Seidmann\n\nTemps 1 / Danse\nGisèle Gréau\n\n« Ne sentez-vous pas que la danse est l'acte des métamorphoses ?... \nJe croyais que les pieds de la danseuse savaient seulement dessiner\, je vois aussi qu'ils savent penser et même écrire..." . Paul Valéry \n\nLes matières artistiques nous permettent de développer nos capacités d’invention\, d’adaptation\, d’initiative. Ce sont elles qui permettent de développer et de construire une sensibilité propre\, permettent d’éduquer un regard\, d’apprendre à voir\, à qualifier\, à nommer\, à relier. Elles qui permettent d’accéder au sens\, à l’imaginaire\, au symbolique. \nNous orienterons le thème de ce stage sur la mise en jeu du corps par l’intermédiaire des mots. Ces mots mobilisent l’imaginaire\, sollicitent les images mentales. Ici la danse s’inspirera de leur sens mais aussi de leurs sonorités\, du rythme qu’ils créent. \n \nIl s’agit alors de s’emparer de ces éléments pour entrer dans le jeu de création et de composition du geste\, de mettre en évidence la singularité des choix de chacun\, la multiplicité des points de vue. \nParfois nous serons amenés à ne choisir qu’un seul mot ou une courte phrase inventée . Ils pourront être dits\, scandés pour leur trouver un rythme\, une musicalité. \nNous laisserons venir les images\, les couleurs\, les émotions qu’elles provoquent et le mot nourri de ces images devient le tremplin pour l’invention d’un geste. \nLe corps sort alors de la simple illustration\, il est libre et par cette liberté il peut donner à ces mots un nouveau sens\, les transformer\, les malaxer pour se les approprier. Et jouer… \n \n« La danse sous toutes ses formes ne peut être exclue du cours de toute noble éducation\, danser avec les pieds\, avec les idées\, avec les mots\, et dois-je aussi ajouter que l’on doit être capable de danser avec la plume ? » – Friedrich Nietzsche \nTemps 2 / Approche énergétique du mouvement \nSylvie Seidmann\n\nATELIER MISE EN CORPS : c'est à dire s'approcher de notre gravité\, pesanteur\, lenteur\, épaisseur\, fluidité\, consistance \, résistance\, détente\, appui\, dynamique \, élargissement\, rétrécissement\, pulsation\, suspension. L'énumération de ces mots et de bien d'autres encore\, je l'envisage pour nos corps ...mais elle peut aussi désigner le monde du vivant au sens large.\nPar des pratiques issues du Qi gong\, du Tai Chi \, de la danse\, du toucher relationnel\, je propose de \n« s'approcher de nous-mêmes pour mieux s'ouvrir au monde ».\nDans la thématique du stage\, une manière progressive et douce pour cheminer vers soi\, les autres et ce qui nous entoure.\nUn réveil énergétique le matin\, une pratique à deux le soir\, massage relaxation.\n\n\nHoraires :\nle 4 = accueil  à 13h30 – pratique 14h à 18h\nles 5\, 6 \,7 \, 8 = 9h30 – 18h avec une heure trente de pause repas (cuisine à disposition)\nle 9 : 9h30 – 13h\n \nInscription : 06 76 86 94 51 ou 06 81 69 82 67 – legrandatelier19@gmail.com
URL:https://ledomainevert.com/evenementen/stage-danse-approche-energetique-du-mouvement-du-4-au-9-aout-2026/
ATTACH;FMTTYPE=image/jpeg:https://ledomainevert.com/wp-content/uploads/2026/03/P1250461-scaled.jpg
END:VEVENT
BEGIN:VEVENT
DTSTART;VALUE=DATE:20260829
DTEND;VALUE=DATE:20260906
DTSTAMP:20260421T225652
CREATED:20260330T182916Z
LAST-MODIFIED:20260330T182916Z
UID:4917-1787961600-1788652799@ledomainevert.com
SUMMARY:ISTA - level 1 in english 29.8-5.9 2026
DESCRIPTION:SPIRITUAL… SEXUAL… SHAMANIC… each of these three areas alone carries enormous potential for liberation\, freedom\, love\, and joy\, as well as charge for shadow and misuse of power.If you are ready to transform your life\, this experiential 7-day training is for you! \nThousands of people on 5 continents in over 50 countries have attended ISTA trainings over the past 10 years. \nMany have been radically changed by uncovering reactive patterns and transforming them into conscious and more loving ways of being. \nIn Level 1 (SSSEx)\, a team of skilled Temple Arts Faculty will share\, inspire\, guide and support you to bring light to the shadows where your power awaits to be reclaimed. \nThis immersive 8-day training invites you to deepen your capacity for presence\, connection\, embodiment and authentic relating in a supportive and transformational field. ISTA is a transmission of life force clothed in love and creative expression\, designed to meet you wherever you are on your path and guide you through an experiential process of discovery and liberation. \nThis training is held by a trio of experienced facilitators — Michal\, Mariana\, and Simon — who bring together depth\, clarity\, and embodied presence. \n   \nEach of them carries a distinct transmission\, shaped by years of personal practice\, facilitation\, and devotion to the ISTA path. Together\, they form a balanced and attuned facilitation team\, able to hold intensity with care\, guide transformation with integrity\, and support participants in navigating their inner processes with responsibility\, sensitivity\, and trust in the intelligence of the field. \nThe training takes place at Domaine Vert\, a peaceful natural venue in the heart of the French countryside\, surrounded by forest\, open sky and quiet living spaces that support integration and presence. This setting allows the practices — movement\, breath\, somatic awareness\, guided group experiences and relational exploration — to unfold in a grounded and embodied way. \nYou will receive information\, guidance and lots of experiential practice around: \n\nself-love\nboundaries and consent\nemotional release\nvoice dialogue\nshamanic tools\nshadow work\nthe ability to manifest\naccessing your inner gender opposite\nconscious communication\ntransformational breathwork\nancient rituals of healing/initiation and powerful sexual clearing/activation processes\n\nmore info and registration direct at ISTA : https://ista.life/events/france-ista-level-1-aug-2026
URL:https://ledomainevert.com/evenementen/ista-level-1-in-english-29-8-5-9-2026/
LOCATION:Le Domaine Vert\, Les Magnes 3972\, Route des Templiers\, Frankrijk
ATTACH;FMTTYPE=image/webp:https://ledomainevert.com/wp-content/uploads/2026/03/d877f1cc-0da1-4e6c-b7c2-e47df7318db1-FB_ISTA_FRANCE_2026.001.webp
END:VEVENT
END:VCALENDAR